Package: idpr Version: 1.14.0 Command: /Library/Frameworks/R.framework/Resources/bin/R CMD build --keep-empty-dirs --no-resave-data idpr StartedAt: 2024-10-16 20:07:00 -0400 (Wed, 16 Oct 2024) EndedAt: 2024-10-16 20:09:08 -0400 (Wed, 16 Oct 2024) EllapsedTime: 128.1 seconds RetCode: 0 Status: OK PackageFile: idpr_1.14.0.tar.gz PackageFileSize: 3.611 MiB