Package: idpr Version: 1.14.0 Command: rm -rf idpr.buildbin-libdir && mkdir idpr.buildbin-libdir && F:\biocbuild\bbs-3.19-bioc\R\bin\R.exe CMD INSTALL --build --library=idpr.buildbin-libdir idpr_1.14.0.tar.gz StartedAt: 2024-06-27 08:22:19 -0400 (Thu, 27 Jun 2024) EndedAt: 2024-06-27 08:22:47 -0400 (Thu, 27 Jun 2024) EllapsedTime: 27.3 seconds RetCode: 0 Status: OK PackageFile: idpr_1.14.0.zip PackageFileSize: 1.12 MiB