Package: idpr Version: 1.14.0 Command: chmod a+r idpr -R && F:\biocbuild\bbs-3.19-bioc\R\bin\R.exe CMD build --keep-empty-dirs --no-resave-data idpr StartedAt: 2024-06-26 19:32:05 -0400 (Wed, 26 Jun 2024) EndedAt: 2024-06-26 19:33:12 -0400 (Wed, 26 Jun 2024) EllapsedTime: 67.1 seconds RetCode: 0 Status: OK PackageFile: idpr_1.14.0.tar.gz PackageFileSize: 1.026 MiB