Package: idpr Version: 1.14.0 Command: chmod a+r idpr -R && E:\biocbuild\bbs-3.19-bioc\R\bin\R.exe CMD build --keep-empty-dirs --no-resave-data idpr StartedAt: 2024-10-16 19:46:12 -0400 (Wed, 16 Oct 2024) EndedAt: 2024-10-16 19:47:34 -0400 (Wed, 16 Oct 2024) EllapsedTime: 81.4 seconds RetCode: 0 Status: OK PackageFile: idpr_1.14.0.tar.gz PackageFileSize: 1.026 MiB