Package: idpr Version: 1.14.0 Command: E:\biocbuild\bbs-3.19-bioc\R\bin\R.exe CMD INSTALL idpr StartedAt: 2024-10-16 16:17:06 -0400 (Wed, 16 Oct 2024) EndedAt: 2024-10-16 16:17:24 -0400 (Wed, 16 Oct 2024) EllapsedTime: 17.6 seconds RetCode: 0 Status: OK