Package: igvShiny Version: 1.0.5 Maintainer: Arkadiusz Gladki MaintainerEmail: gladki.arkadiusz at gmail.com git_url: https://git.bioconductor.org/packages/igvShiny git_branch: RELEASE_3_19 git_last_commit: 648a469 git_last_commit_date: 2024-08-30 07:00:21 -0400 (Fri, 30 Aug 2024)