Package: igvShiny Version: 1.0.5 Command: /Library/Frameworks/R.framework/Resources/bin/R CMD build --keep-empty-dirs --no-resave-data igvShiny StartedAt: 2024-10-17 02:39:20 -0400 (Thu, 17 Oct 2024) EndedAt: 2024-10-17 02:39:49 -0400 (Thu, 17 Oct 2024) EllapsedTime: 28.6 seconds RetCode: 0 Status: OK PackageFile: igvShiny_1.0.5.tar.gz PackageFileSize: 4.22 MiB