Package: igvShiny Version: 1.0.5 Command: /Library/Frameworks/R.framework/Resources/bin/R CMD INSTALL igvShiny StartedAt: 2024-10-16 17:16:08 -0400 (Wed, 16 Oct 2024) EndedAt: 2024-10-16 17:16:22 -0400 (Wed, 16 Oct 2024) EllapsedTime: 14.1 seconds RetCode: 0 Status: OK