Package: igvShiny Version: 1.0.5 Command: /home/biocbuild/bbs-3.19-bioc/R/bin/R CMD build --keep-empty-dirs --no-resave-data igvShiny StartedAt: 2024-10-16 19:02:22 -0400 (Wed, 16 Oct 2024) EndedAt: 2024-10-16 19:02:42 -0400 (Wed, 16 Oct 2024) EllapsedTime: 20.0 seconds RetCode: 0 Status: OK PackageFile: igvShiny_1.0.5.tar.gz PackageFileSize: 4.22 MiB