Package: igvShiny Version: 1.0.0 Command: F:\biocbuild\bbs-3.19-bioc\R\bin\R.exe CMD INSTALL igvShiny StartedAt: 2024-06-26 16:17:10 -0400 (Wed, 26 Jun 2024) EndedAt: 2024-06-26 16:17:33 -0400 (Wed, 26 Jun 2024) EllapsedTime: 23.0 seconds RetCode: 0 Status: OK