Package: igvShiny Version: 1.0.5 Command: rm -rf igvShiny.buildbin-libdir && mkdir igvShiny.buildbin-libdir && E:\biocbuild\bbs-3.19-bioc\R\bin\R.exe CMD INSTALL --build --library=igvShiny.buildbin-libdir igvShiny_1.0.5.tar.gz StartedAt: 2024-10-17 07:58:59 -0400 (Thu, 17 Oct 2024) EndedAt: 2024-10-17 07:59:39 -0400 (Thu, 17 Oct 2024) EllapsedTime: 40.4 seconds RetCode: 0 Status: OK PackageFile: igvShiny_1.0.5.zip PackageFileSize: 4.298 MiB