Package: illuminaio Version: 0.46.0 Command: rm -rf illuminaio.buildbin-libdir && mkdir illuminaio.buildbin-libdir && /Users/biocbuild/BBS/utils/build-universal.sh illuminaio_0.46.0.tar.gz /Library/Frameworks/R.framework/Resources/bin/R illuminaio.buildbin-libdir StartedAt: 2024-06-11 11:39:49 -0400 (Tue, 11 Jun 2024) EndedAt: 2024-06-11 11:40:00 -0400 (Tue, 11 Jun 2024) EllapsedTime: 11.1 seconds RetCode: 0 Status: OK PackageFile: illuminaio_0.46.0.tgz PackageFileSize: 447.7 KiB