Package: illuminaio Version: 0.46.0 Command: /home/biocbuild/R/R-beta-2024-04-15_r86425/bin/R CMD build --keep-empty-dirs --no-resave-data illuminaio StartedAt: 2024-05-09 01:03:21 -0000 (Thu, 09 May 2024) EndedAt: 2024-05-09 01:03:32 -0000 (Thu, 09 May 2024) EllapsedTime: 11.0 seconds RetCode: 0 Status: OK PackageFile: illuminaio_0.46.0.tar.gz PackageFileSize: 357.6 KiB