Package: illuminaio Version: 0.46.0 Command: rm -rf illuminaio.buildbin-libdir && mkdir illuminaio.buildbin-libdir && /Users/biocbuild/BBS/utils/build-universal.sh illuminaio_0.46.0.tar.gz /Library/Frameworks/R.framework/Resources/bin/R illuminaio.buildbin-libdir StartedAt: 2024-06-10 00:23:01 -0400 (Mon, 10 Jun 2024) EndedAt: 2024-06-10 00:23:10 -0400 (Mon, 10 Jun 2024) EllapsedTime: 9.2 seconds RetCode: 0 Status: OK PackageFile: illuminaio_0.46.0.tgz PackageFileSize: 448 KiB