Package: illuminaio Version: 0.46.0 Command: rm -rf illuminaio.buildbin-libdir && mkdir illuminaio.buildbin-libdir && /Users/biocbuild/BBS/utils/build-universal.sh illuminaio_0.46.0.tar.gz /Library/Frameworks/R.framework/Resources/bin/R illuminaio.buildbin-libdir StartedAt: 2024-10-17 16:23:19 -0400 (Thu, 17 Oct 2024) EndedAt: 2024-10-17 16:23:29 -0400 (Thu, 17 Oct 2024) EllapsedTime: 9.7 seconds RetCode: 0 Status: OK PackageFile: illuminaio_0.46.0.tgz PackageFileSize: 448.9 KiB