Package: illuminaio Version: 0.46.0 Command: /Library/Frameworks/R.framework/Resources/bin/R CMD check --install=check:illuminaio.install-out.txt --library=/Library/Frameworks/R.framework/Resources/library --no-vignettes --timings illuminaio_0.46.0.tar.gz StartedAt: 2024-10-17 06:55:16 -0400 (Thu, 17 Oct 2024) EndedAt: 2024-10-17 06:56:19 -0400 (Thu, 17 Oct 2024) EllapsedTime: 63.0 seconds RetCode: 0 Status: OK CheckDir: illuminaio.Rcheck Warnings: 0