Package: illuminaio Version: 0.46.0 Command: /Library/Frameworks/R.framework/Resources/bin/R CMD INSTALL illuminaio StartedAt: 2024-10-16 15:13:01 -0400 (Wed, 16 Oct 2024) EndedAt: 2024-10-16 15:13:20 -0400 (Wed, 16 Oct 2024) EllapsedTime: 19.2 seconds RetCode: 0 Status: OK