Package: illuminaio Version: 0.46.0 Command: chmod a+r illuminaio -R && E:\biocbuild\bbs-3.19-bioc\R\bin\R.exe CMD build --keep-empty-dirs --no-resave-data illuminaio StartedAt: 2024-10-16 19:47:15 -0400 (Wed, 16 Oct 2024) EndedAt: 2024-10-16 19:47:57 -0400 (Wed, 16 Oct 2024) EllapsedTime: 41.7 seconds RetCode: 0 Status: OK PackageFile: illuminaio_0.46.0.tar.gz PackageFileSize: 301.6 KiB