Package: infercnv Version: 1.20.0 Maintainer: Christophe Georgescu MaintainerEmail: cgeorges at broadinstitute.org git_url: https://git.bioconductor.org/packages/infercnv git_branch: RELEASE_3_19 git_last_commit: 441a7d9 git_last_commit_date: 2024-04-30 11:14:48 -0400 (Tue, 30 Apr 2024)