Package: infercnv Version: 1.20.0 Command: /Library/Frameworks/R.framework/Resources/bin/R CMD INSTALL infercnv StartedAt: 2024-10-16 18:02:25 -0400 (Wed, 16 Oct 2024) EndedAt: 2024-10-16 18:03:18 -0400 (Wed, 16 Oct 2024) EllapsedTime: 53.8 seconds RetCode: 0 Status: OK