Package: infercnv Version: 1.20.0 Command: rm -rf infercnv.buildbin-libdir && mkdir infercnv.buildbin-libdir && /Users/biocbuild/BBS/utils/build-universal.sh infercnv_1.20.0.tar.gz /Library/Frameworks/R.framework/Resources/bin/R infercnv.buildbin-libdir StartedAt: 2024-06-10 00:23:10 -0400 (Mon, 10 Jun 2024) EndedAt: 2024-06-10 00:24:19 -0400 (Mon, 10 Jun 2024) EllapsedTime: 68.8 seconds RetCode: 0 Status: OK PackageFile: infercnv_1.20.0.tgz PackageFileSize: 4.364 MiB