Package: infercnv Version: 1.20.0 Command: /Library/Frameworks/R.framework/Resources/bin/R CMD build --keep-empty-dirs --no-resave-data infercnv StartedAt: 2024-06-09 17:00:29 -0400 (Sun, 09 Jun 2024) EndedAt: 2024-06-09 17:02:58 -0400 (Sun, 09 Jun 2024) EllapsedTime: 149.3 seconds RetCode: 0 Status: OK PackageFile: infercnv_1.20.0.tar.gz PackageFileSize: 3.967 MiB