Package: infercnv Version: 1.20.0 Command: /home/biocbuild/bbs-3.19-bioc/R/bin/R CMD build --keep-empty-dirs --no-resave-data infercnv StartedAt: 2024-10-16 19:04:00 -0400 (Wed, 16 Oct 2024) EndedAt: 2024-10-16 19:05:49 -0400 (Wed, 16 Oct 2024) EllapsedTime: 109.2 seconds RetCode: 0 Status: OK PackageFile: infercnv_1.20.0.tar.gz PackageFileSize: 3.941 MiB