Package: infercnv Version: 1.20.0 Command: rm -rf infercnv.buildbin-libdir && mkdir infercnv.buildbin-libdir && F:\biocbuild\bbs-3.19-bioc\R\bin\R.exe CMD INSTALL --build --library=infercnv.buildbin-libdir infercnv_1.20.0.tar.gz StartedAt: 2024-06-27 08:22:50 -0400 (Thu, 27 Jun 2024) EndedAt: 2024-06-27 08:23:55 -0400 (Thu, 27 Jun 2024) EllapsedTime: 65.1 seconds RetCode: 0 Status: OK PackageFile: infercnv_1.20.0.zip PackageFileSize: 4.271 MiB