Package: infercnv Version: 1.20.0 Command: chmod a+r infercnv -R && F:\biocbuild\bbs-3.19-bioc\R\bin\R.exe CMD build --keep-empty-dirs --no-resave-data infercnv StartedAt: 2024-06-26 19:35:11 -0400 (Wed, 26 Jun 2024) EndedAt: 2024-06-26 19:37:25 -0400 (Wed, 26 Jun 2024) EllapsedTime: 133.7 seconds RetCode: 0 Status: OK PackageFile: infercnv_1.20.0.tar.gz PackageFileSize: 3.89 MiB