Package: infercnv Version: 1.20.0 Command: F:\biocbuild\bbs-3.19-bioc\R\bin\R.exe CMD check --no-multiarch --install=check:infercnv.install-out.txt --library=F:\biocbuild\bbs-3.19-bioc\R\library --no-vignettes --timings infercnv_1.20.0.tar.gz StartedAt: 2024-06-27 02:46:24 -0400 (Thu, 27 Jun 2024) EndedAt: 2024-06-27 02:55:56 -0400 (Thu, 27 Jun 2024) EllapsedTime: 572.4 seconds RetCode: 0 Status: OK CheckDir: infercnv.Rcheck Warnings: 0