Package: infinityFlow Version: 1.14.0 Command: rm -rf infinityFlow.buildbin-libdir && mkdir infinityFlow.buildbin-libdir && /Users/biocbuild/BBS/utils/build-universal.sh infinityFlow_1.14.0.tar.gz /Library/Frameworks/R.framework/Resources/bin/R infinityFlow.buildbin-libdir StartedAt: 2024-10-18 19:00:39 -0400 (Fri, 18 Oct 2024) EndedAt: 2024-10-18 19:01:11 -0400 (Fri, 18 Oct 2024) EllapsedTime: 32.1 seconds RetCode: 0 Status: OK PackageFile: infinityFlow_1.14.0.tgz PackageFileSize: 1.774 MiB