Package: infinityFlow Version: 1.14.0 Command: /Library/Frameworks/R.framework/Resources/bin/R CMD build --keep-empty-dirs --no-resave-data infinityFlow StartedAt: 2024-10-17 02:48:34 -0400 (Thu, 17 Oct 2024) EndedAt: 2024-10-17 02:53:09 -0400 (Thu, 17 Oct 2024) EllapsedTime: 275.1 seconds RetCode: 0 Status: OK PackageFile: infinityFlow_1.14.0.tar.gz PackageFileSize: 1.709 MiB