Package: infinityFlow Version: 1.14.0 Command: /Library/Frameworks/R.framework/Resources/bin/R CMD check --install=check:infinityFlow.install-out.txt --library=/Library/Frameworks/R.framework/Resources/library --no-vignettes --timings infinityFlow_1.14.0.tar.gz StartedAt: 2024-10-18 01:11:10 -0400 (Fri, 18 Oct 2024) EndedAt: 2024-10-18 01:14:04 -0400 (Fri, 18 Oct 2024) EllapsedTime: 173.9 seconds RetCode: 0 Status: OK CheckDir: infinityFlow.Rcheck Warnings: 0