Package: infinityFlow Version: 1.14.0 Command: rm -rf infinityFlow.buildbin-libdir && mkdir infinityFlow.buildbin-libdir && /Users/biocbuild/BBS/utils/build-universal.sh infinityFlow_1.14.0.tar.gz /Library/Frameworks/R.framework/Resources/bin/R infinityFlow.buildbin-libdir StartedAt: 2024-06-11 11:40:57 -0400 (Tue, 11 Jun 2024) EndedAt: 2024-06-11 11:41:44 -0400 (Tue, 11 Jun 2024) EllapsedTime: 47.0 seconds RetCode: 0 Status: OK PackageFile: infinityFlow_1.14.0.tgz PackageFileSize: 1.774 MiB