Package: infinityFlow Version: 1.14.0 Command: /Library/Frameworks/R.framework/Resources/bin/R CMD check --install=check:infinityFlow.install-out.txt --library=/Library/Frameworks/R.framework/Resources/library --no-vignettes --timings infinityFlow_1.14.0.tar.gz StartedAt: 2024-06-10 19:14:29 -0400 (Mon, 10 Jun 2024) EndedAt: 2024-06-10 19:18:33 -0400 (Mon, 10 Jun 2024) EllapsedTime: 244.0 seconds RetCode: 0 Status: OK CheckDir: infinityFlow.Rcheck Warnings: 0