Package: infinityFlow Version: 1.14.0 Command: /Library/Frameworks/R.framework/Resources/bin/R CMD build --keep-empty-dirs --no-resave-data infinityFlow StartedAt: 2024-06-09 17:00:39 -0400 (Sun, 09 Jun 2024) EndedAt: 2024-06-09 17:04:23 -0400 (Sun, 09 Jun 2024) EllapsedTime: 224.0 seconds RetCode: 0 Status: OK PackageFile: infinityFlow_1.14.0.tar.gz PackageFileSize: 1.709 MiB