Package: infinityFlow Version: 1.14.0 Command: /Library/Frameworks/R.framework/Resources/bin/R CMD build --keep-empty-dirs --no-resave-data infinityFlow StartedAt: 2024-10-16 20:10:32 -0400 (Wed, 16 Oct 2024) EndedAt: 2024-10-16 20:18:43 -0400 (Wed, 16 Oct 2024) EllapsedTime: 490.7 seconds RetCode: 0 Status: OK PackageFile: infinityFlow_1.14.0.tar.gz PackageFileSize: 1.709 MiB