Package: infinityFlow Version: 1.14.0 Command: /home/biocbuild/bbs-3.19-bioc/R/bin/R CMD build --keep-empty-dirs --no-resave-data infinityFlow StartedAt: 2024-10-16 19:04:02 -0400 (Wed, 16 Oct 2024) EndedAt: 2024-10-16 19:07:18 -0400 (Wed, 16 Oct 2024) EllapsedTime: 196.4 seconds RetCode: 0 Status: OK PackageFile: infinityFlow_1.14.0.tar.gz PackageFileSize: 1.709 MiB