Package: infinityFlow Version: 1.14.0 Command: /home/biocbuild/bbs-3.19-bioc/R/bin/R CMD INSTALL infinityFlow StartedAt: 2024-10-16 15:59:19 -0400 (Wed, 16 Oct 2024) EndedAt: 2024-10-16 15:59:41 -0400 (Wed, 16 Oct 2024) EllapsedTime: 21.9 seconds RetCode: 0 Status: OK