Package: infinityFlow Version: 1.14.0 Command: chmod a+r infinityFlow -R && E:\biocbuild\bbs-3.19-bioc\R\bin\R.exe CMD build --keep-empty-dirs --no-resave-data infinityFlow StartedAt: 2024-10-16 19:50:09 -0400 (Wed, 16 Oct 2024) EndedAt: 2024-10-16 19:55:57 -0400 (Wed, 16 Oct 2024) EllapsedTime: 348.6 seconds RetCode: 0 Status: OK PackageFile: infinityFlow_1.14.0.tar.gz PackageFileSize: 1.709 MiB