Package: intansv Version: 1.44.0 Command: rm -rf intansv.buildbin-libdir && mkdir intansv.buildbin-libdir && /Users/biocbuild/BBS/utils/build-universal.sh intansv_1.44.0.tar.gz /Library/Frameworks/R.framework/Resources/bin/R intansv.buildbin-libdir StartedAt: 2024-10-18 19:01:38 -0400 (Fri, 18 Oct 2024) EndedAt: 2024-10-18 19:02:56 -0400 (Fri, 18 Oct 2024) EllapsedTime: 77.4 seconds RetCode: 0 Status: OK PackageFile: intansv_1.44.0.tgz PackageFileSize: 709 KiB