Package: intansv Version: 1.44.0 Command: /Library/Frameworks/R.framework/Resources/bin/R CMD build --keep-empty-dirs --no-resave-data intansv StartedAt: 2024-10-17 02:53:53 -0400 (Thu, 17 Oct 2024) EndedAt: 2024-10-17 02:55:51 -0400 (Thu, 17 Oct 2024) EllapsedTime: 118.1 seconds RetCode: 0 Status: OK PackageFile: intansv_1.44.0.tar.gz PackageFileSize: 614.2 KiB