Package: intansv Version: 1.44.0 Command: rm -rf intansv.buildbin-libdir && mkdir intansv.buildbin-libdir && /Users/biocbuild/BBS/utils/build-universal.sh intansv_1.44.0.tar.gz /Library/Frameworks/R.framework/Resources/bin/R intansv.buildbin-libdir StartedAt: 2024-06-11 11:41:32 -0400 (Tue, 11 Jun 2024) EndedAt: 2024-06-11 11:43:29 -0400 (Tue, 11 Jun 2024) EllapsedTime: 116.8 seconds RetCode: 0 Status: OK PackageFile: intansv_1.44.0.tgz PackageFileSize: 709.2 KiB