Package: intansv Version: 1.44.0 Command: /home/biocbuild/R/R-beta-2024-04-15_r86425/bin/R CMD build --keep-empty-dirs --no-resave-data intansv StartedAt: 2024-05-09 01:06:50 -0000 (Thu, 09 May 2024) EndedAt: 2024-05-09 01:08:58 -0000 (Thu, 09 May 2024) EllapsedTime: 128.2 seconds RetCode: 0 Status: OK PackageFile: intansv_1.44.0.tar.gz PackageFileSize: 609.9 KiB