Package: intansv Version: 1.44.0 Command: /Library/Frameworks/R.framework/Resources/bin/R CMD build --keep-empty-dirs --no-resave-data intansv StartedAt: 2024-10-16 20:12:22 -0400 (Wed, 16 Oct 2024) EndedAt: 2024-10-16 20:16:18 -0400 (Wed, 16 Oct 2024) EllapsedTime: 236.4 seconds RetCode: 0 Status: OK PackageFile: intansv_1.44.0.tar.gz PackageFileSize: 614.2 KiB