Package: intansv Version: 1.44.0 Command: /Library/Frameworks/R.framework/Resources/bin/R CMD INSTALL intansv StartedAt: 2024-10-16 16:06:25 -0400 (Wed, 16 Oct 2024) EndedAt: 2024-10-16 16:08:19 -0400 (Wed, 16 Oct 2024) EllapsedTime: 114.3 seconds RetCode: 0 Status: OK