Package: intansv Version: 1.44.0 Command: /home/biocbuild/bbs-3.19-bioc/R/bin/R CMD build --keep-empty-dirs --no-resave-data intansv StartedAt: 2024-10-16 19:04:45 -0400 (Wed, 16 Oct 2024) EndedAt: 2024-10-16 19:06:15 -0400 (Wed, 16 Oct 2024) EllapsedTime: 90.2 seconds RetCode: 0 Status: OK PackageFile: intansv_1.44.0.tar.gz PackageFileSize: 614.4 KiB