Package: intansv Version: 1.44.0 Command: /home/biocbuild/bbs-3.19-bioc/R/bin/R CMD INSTALL intansv StartedAt: 2024-10-16 16:22:54 -0400 (Wed, 16 Oct 2024) EndedAt: 2024-10-16 16:23:47 -0400 (Wed, 16 Oct 2024) EllapsedTime: 53.4 seconds RetCode: 0 Status: OK