Package: intansv Version: 1.44.0 Command: chmod a+r intansv -R && F:\biocbuild\bbs-3.19-bioc\R\bin\R.exe CMD build --keep-empty-dirs --no-resave-data intansv StartedAt: 2024-06-26 19:36:04 -0400 (Wed, 26 Jun 2024) EndedAt: 2024-06-26 19:37:52 -0400 (Wed, 26 Jun 2024) EllapsedTime: 108.5 seconds RetCode: 0 Status: OK PackageFile: intansv_1.44.0.tar.gz PackageFileSize: 614.2 KiB