Package: intansv Version: 1.44.0 Command: rm -rf intansv.buildbin-libdir && mkdir intansv.buildbin-libdir && E:\biocbuild\bbs-3.19-bioc\R\bin\R.exe CMD INSTALL --build --library=intansv.buildbin-libdir intansv_1.44.0.tar.gz StartedAt: 2024-10-17 07:59:42 -0400 (Thu, 17 Oct 2024) EndedAt: 2024-10-17 08:00:37 -0400 (Thu, 17 Oct 2024) EllapsedTime: 54.5 seconds RetCode: 0 Status: OK PackageFile: intansv_1.44.0.zip PackageFileSize: 701.4 KiB