Package: intansv Version: 1.44.0 Command: chmod a+r intansv -R && E:\biocbuild\bbs-3.19-bioc\R\bin\R.exe CMD build --keep-empty-dirs --no-resave-data intansv StartedAt: 2024-10-16 19:50:38 -0400 (Wed, 16 Oct 2024) EndedAt: 2024-10-16 19:52:32 -0400 (Wed, 16 Oct 2024) EllapsedTime: 114.3 seconds RetCode: 0 Status: OK PackageFile: intansv_1.44.0.tar.gz PackageFileSize: 614.2 KiB