Package: interacCircos Version: 1.14.0 Command: /Library/Frameworks/R.framework/Resources/bin/R CMD check --install=check:interacCircos.install-out.txt --library=/Library/Frameworks/R.framework/Resources/library --no-vignettes --timings interacCircos_1.14.0.tar.gz StartedAt: 2024-06-09 21:01:45 -0400 (Sun, 09 Jun 2024) EndedAt: 2024-06-09 21:02:28 -0400 (Sun, 09 Jun 2024) EllapsedTime: 43.2 seconds RetCode: 0 Status: OK CheckDir: interacCircos.Rcheck Warnings: 0