Package: interacCircos Version: 1.14.0 Command: /Library/Frameworks/R.framework/Resources/bin/R CMD build --keep-empty-dirs --no-resave-data interacCircos StartedAt: 2024-10-16 20:12:27 -0400 (Wed, 16 Oct 2024) EndedAt: 2024-10-16 20:12:46 -0400 (Wed, 16 Oct 2024) EllapsedTime: 18.6 seconds RetCode: 0 Status: OK PackageFile: interacCircos_1.14.0.tar.gz PackageFileSize: 710.3 KiB