Package: interacCircos Version: 1.14.0 Command: rm -rf interacCircos.buildbin-libdir && mkdir interacCircos.buildbin-libdir && F:\biocbuild\bbs-3.19-bioc\R\bin\R.exe CMD INSTALL --build --library=interacCircos.buildbin-libdir interacCircos_1.14.0.tar.gz StartedAt: 2024-06-27 08:23:06 -0400 (Thu, 27 Jun 2024) EndedAt: 2024-06-27 08:23:22 -0400 (Thu, 27 Jun 2024) EllapsedTime: 16.7 seconds RetCode: 0 Status: OK PackageFile: interacCircos_1.14.0.zip PackageFileSize: 846.2 KiB